Package: CONFESS Version: 1.32.0 Command: F:\biocbuild\bbs-3.19-bioc\R\bin\R.exe CMD check --no-multiarch --install=check:CONFESS.install-out.txt --library=F:\biocbuild\bbs-3.19-bioc\R\library --no-vignettes --timings CONFESS_1.32.0.tar.gz StartedAt: 2024-06-27 00:23:10 -0400 (Thu, 27 Jun 2024) EndedAt: 2024-06-27 00:29:54 -0400 (Thu, 27 Jun 2024) EllapsedTime: 403.7 seconds RetCode: 0 Status: WARNINGS CheckDir: CONFESS.Rcheck Warnings: 1