Package: CONFESS Version: 1.32.0 Command: /Library/Frameworks/R.framework/Resources/bin/R CMD INSTALL CONFESS StartedAt: 2024-06-09 16:58:21 -0400 (Sun, 09 Jun 2024) EndedAt: 2024-06-09 17:02:59 -0400 (Sun, 09 Jun 2024) EllapsedTime: 278.7 seconds RetCode: 0 Status: OK