Package: COMPASS Version: 1.42.0 Command: chmod a+r COMPASS -R && E:\biocbuild\bbs-3.19-bioc\R\bin\R.exe CMD build --keep-empty-dirs --no-resave-data COMPASS StartedAt: 2024-10-16 18:20:29 -0400 (Wed, 16 Oct 2024) EndedAt: 2024-10-16 18:28:01 -0400 (Wed, 16 Oct 2024) EllapsedTime: 452.0 seconds RetCode: 0 Status: OK PackageFile: COMPASS_1.42.0.tar.gz PackageFileSize: 1.115 MiB