Package: COMPASS Version: 1.42.0 Command: /home/biocbuild/bbs-3.19-bioc/R/bin/R CMD build --keep-empty-dirs --no-resave-data COMPASS StartedAt: 2024-10-16 17:55:09 -0400 (Wed, 16 Oct 2024) EndedAt: 2024-10-16 17:59:58 -0400 (Wed, 16 Oct 2024) EllapsedTime: 289.6 seconds RetCode: 0 Status: OK PackageFile: COMPASS_1.42.0.tar.gz PackageFileSize: 1.233 MiB