Package: COMPASS Version: 1.42.0 Command: /Library/Frameworks/R.framework/Resources/bin/R CMD INSTALL COMPASS StartedAt: 2024-10-16 16:01:01 -0400 (Wed, 16 Oct 2024) EndedAt: 2024-10-16 16:02:41 -0400 (Wed, 16 Oct 2024) EllapsedTime: 100.4 seconds RetCode: 0 Status: OK