Package: COMPASS Version: 1.42.0 Command: /Library/Frameworks/R.framework/Resources/bin/R CMD build --keep-empty-dirs --no-resave-data COMPASS StartedAt: 2024-06-09 16:16:36 -0400 (Sun, 09 Jun 2024) EndedAt: 2024-06-09 16:19:39 -0400 (Sun, 09 Jun 2024) EllapsedTime: 183.0 seconds RetCode: 0 Status: OK PackageFile: COMPASS_1.42.0.tar.gz PackageFileSize: 1.305 MiB