Package: COMPASS Version: 1.42.0 Command: /Library/Frameworks/R.framework/Resources/bin/R CMD INSTALL COMPASS StartedAt: 2024-10-16 17:20:51 -0400 (Wed, 16 Oct 2024) EndedAt: 2024-10-16 17:21:37 -0400 (Wed, 16 Oct 2024) EllapsedTime: 45.3 seconds RetCode: 0 Status: OK