Package: COHCAP Version: 1.49.0 Command: rm -rf COHCAP.buildbin-libdir && mkdir COHCAP.buildbin-libdir && F:\biocbuild\bbs-3.19-bioc\R\bin\R.exe CMD INSTALL --build --library=COHCAP.buildbin-libdir COHCAP_1.49.0.tar.gz StartedAt: 2024-04-16 08:21:29 -0400 (Tue, 16 Apr 2024) EndedAt: 2024-04-16 08:22:23 -0400 (Tue, 16 Apr 2024) EllapsedTime: 54.6 seconds RetCode: 0 Status: OK PackageFile: COHCAP_1.49.0.zip PackageFileSize: 684.8 KiB