Package: COHCAP Version: 1.49.0 Command: /home/biocbuild/bbs-3.19-bioc/R/bin/R CMD INSTALL COHCAP StartedAt: 2024-04-15 15:03:41 -0400 (Mon, 15 Apr 2024) EndedAt: 2024-04-15 15:04:10 -0400 (Mon, 15 Apr 2024) EllapsedTime: 29.2 seconds RetCode: 0 Status: OK