Package: COHCAP Version: 1.49.0 Command: /Library/Frameworks/R.framework/Resources/bin/R CMD check --install=check:COHCAP.install-out.txt --library=/Library/Frameworks/R.framework/Resources/library --no-vignettes --timings COHCAP_1.49.0.tar.gz StartedAt: 2024-03-02 01:59:02 -0500 (Sat, 02 Mar 2024) EndedAt: 2024-03-02 02:00:24 -0500 (Sat, 02 Mar 2024) EllapsedTime: 82.2 seconds RetCode: 0 Status: OK CheckDir: COHCAP.Rcheck Warnings: 0