Package: COHCAP Version: 1.49.0 Command: /Library/Frameworks/R.framework/Resources/bin/R CMD INSTALL COHCAP StartedAt: 2024-04-15 15:05:44 -0400 (Mon, 15 Apr 2024) EndedAt: 2024-04-15 15:06:12 -0400 (Mon, 15 Apr 2024) EllapsedTime: 28.0 seconds RetCode: 0 Status: OK