Package: COHCAP Version: 1.49.0 Command: /Library/Frameworks/R.framework/Resources/bin/R CMD build --keep-empty-dirs --no-resave-data COHCAP StartedAt: 2024-04-15 16:20:30 -0400 (Mon, 15 Apr 2024) EndedAt: 2024-04-15 16:21:11 -0400 (Mon, 15 Apr 2024) EllapsedTime: 40.9 seconds RetCode: 0 Status: OK PackageFile: COHCAP_1.49.0.tar.gz PackageFileSize: 235.9 KiB