Package: COHCAP Version: 1.49.0 Command: /home/biocbuild/R/R-4.4-devel-2024.03.20/bin/R CMD INSTALL COHCAP StartedAt: 2024-04-15 19:08:18 -0000 (Mon, 15 Apr 2024) EndedAt: 2024-04-15 19:09:37 -0000 (Mon, 15 Apr 2024) EllapsedTime: 78.4 seconds RetCode: 0 Status: OK