Package: COHCAP Version: 1.49.0 Command: /home/biocbuild/R/R-4.4-devel-2024.03.20/bin/R CMD check --install=check:COHCAP.install-out.txt --library=/home/biocbuild/R/R-4.4-devel-2024.03.20/site-library --no-vignettes --timings COHCAP_1.49.0.tar.gz StartedAt: 2024-04-16 03:56:50 -0000 (Tue, 16 Apr 2024) EndedAt: 2024-04-16 03:57:31 -0000 (Tue, 16 Apr 2024) EllapsedTime: 41.1 seconds RetCode: 0 Status: OK CheckDir: COHCAP.Rcheck Warnings: 0