Package: COHCAP Version: 1.49.0 Command: /home/biocbuild/R/R-4.4-devel-2024.03.20/bin/R CMD build --keep-empty-dirs --no-resave-data COHCAP StartedAt: 2024-04-15 21:28:43 -0000 (Mon, 15 Apr 2024) EndedAt: 2024-04-15 21:29:40 -0000 (Mon, 15 Apr 2024) EllapsedTime: 57.1 seconds RetCode: 0 Status: OK PackageFile: COHCAP_1.49.0.tar.gz PackageFileSize: 230.9 KiB