Package: CODEX Version: 1.36.0 Command: E:\biocbuild\bbs-3.19-bioc\R\bin\R.exe CMD check --no-multiarch --install=check:CODEX.install-out.txt --library=E:\biocbuild\bbs-3.19-bioc\R\library --no-vignettes --timings CODEX_1.36.0.tar.gz StartedAt: 2024-10-17 00:11:53 -0400 (Thu, 17 Oct 2024) EndedAt: 2024-10-17 00:16:50 -0400 (Thu, 17 Oct 2024) EllapsedTime: 297.1 seconds RetCode: 0 Status: OK CheckDir: CODEX.Rcheck Warnings: 0