Package: CODEX Version: 1.36.0 Command: chmod a+r CODEX -R && E:\biocbuild\bbs-3.19-bioc\R\bin\R.exe CMD build --keep-empty-dirs --no-resave-data CODEX StartedAt: 2024-10-16 18:18:52 -0400 (Wed, 16 Oct 2024) EndedAt: 2024-10-16 18:21:38 -0400 (Wed, 16 Oct 2024) EllapsedTime: 165.6 seconds RetCode: 0 Status: OK PackageFile: CODEX_1.36.0.tar.gz PackageFileSize: 824.2 KiB