Package: CODEX Version: 1.36.0 Command: rm -rf CODEX.buildbin-libdir && mkdir CODEX.buildbin-libdir && E:\biocbuild\bbs-3.19-bioc\R\bin\R.exe CMD INSTALL --build --library=CODEX.buildbin-libdir CODEX_1.36.0.tar.gz StartedAt: 2024-10-17 07:34:28 -0400 (Thu, 17 Oct 2024) EndedAt: 2024-10-17 07:35:04 -0400 (Thu, 17 Oct 2024) EllapsedTime: 36.0 seconds RetCode: 0 Status: OK PackageFile: CODEX_1.36.0.zip PackageFileSize: 1.239 MiB