Package: CODEX Version: 1.36.0 Command: /home/biocbuild/bbs-3.19-bioc/R/bin/R CMD INSTALL CODEX StartedAt: 2024-10-16 16:07:48 -0400 (Wed, 16 Oct 2024) EndedAt: 2024-10-16 16:08:23 -0400 (Wed, 16 Oct 2024) EllapsedTime: 34.7 seconds RetCode: 0 Status: OK