Package: CODEX Version: 1.36.0 Command: /Library/Frameworks/R.framework/Resources/bin/R CMD check --install=check:CODEX.install-out.txt --library=/Library/Frameworks/R.framework/Resources/library --no-vignettes --timings CODEX_1.36.0.tar.gz StartedAt: 2024-06-09 19:33:00 -0400 (Sun, 09 Jun 2024) EndedAt: 2024-06-09 19:37:39 -0400 (Sun, 09 Jun 2024) EllapsedTime: 279.3 seconds RetCode: 0 Status: OK CheckDir: CODEX.Rcheck Warnings: 0