Package: CODEX Version: 1.36.0 Command: /Library/Frameworks/R.framework/Resources/bin/R CMD build --keep-empty-dirs --no-resave-data CODEX StartedAt: 2024-06-09 16:15:10 -0400 (Sun, 09 Jun 2024) EndedAt: 2024-06-09 16:17:04 -0400 (Sun, 09 Jun 2024) EllapsedTime: 113.7 seconds RetCode: 0 Status: OK PackageFile: CODEX_1.36.0.tar.gz PackageFileSize: 913.5 KiB