Package: CODEX Version: 1.36.0 Command: /home/biocbuild/R/R-beta-2024-04-15_r86425/bin/R CMD check --install=check:CODEX.install-out.txt --library=/home/biocbuild/R/R-beta-2024-04-15_r86425/site-library --no-vignettes --timings CODEX_1.36.0.tar.gz StartedAt: 2024-05-09 06:02:46 -0000 (Thu, 09 May 2024) EndedAt: 2024-05-09 06:08:25 -0000 (Thu, 09 May 2024) EllapsedTime: 339.6 seconds RetCode: 0 Status: OK CheckDir: CODEX.Rcheck Warnings: 0