Package: CODEX Version: 1.36.0 Command: rm -rf CODEX.buildbin-libdir && mkdir CODEX.buildbin-libdir && /Users/biocbuild/BBS/utils/build-universal.sh CODEX_1.36.0.tar.gz /Library/Frameworks/R.framework/Resources/bin/R CODEX.buildbin-libdir StartedAt: 2024-06-11 10:39:49 -0400 (Tue, 11 Jun 2024) EndedAt: 2024-06-11 10:40:54 -0400 (Tue, 11 Jun 2024) EllapsedTime: 65.1 seconds RetCode: 0 Status: OK PackageFile: CODEX_1.36.0.tgz PackageFileSize: 1.38 MiB