Package: CODEX Version: 1.36.0 Command: /Library/Frameworks/R.framework/Resources/bin/R CMD INSTALL CODEX StartedAt: 2024-10-16 16:37:41 -0400 (Wed, 16 Oct 2024) EndedAt: 2024-10-16 16:38:20 -0400 (Wed, 16 Oct 2024) EllapsedTime: 38.4 seconds RetCode: 0 Status: OK