Package: CODEX Version: 1.36.0 Maintainer: Yuchao Jiang MaintainerEmail: yuchaoj at wharton.upenn.edu git_url: https://git.bioconductor.org/packages/CODEX git_branch: RELEASE_3_19 git_last_commit: 10cf2cb git_last_commit_date: 2024-04-30 10:41:04 -0400 (Tue, 30 Apr 2024)