Package: COCOA Version: 2.18.0 Command: chmod a+r COCOA -R && F:\biocbuild\bbs-3.19-bioc\R\bin\R.exe CMD build --keep-empty-dirs --no-resave-data COCOA StartedAt: 2024-06-26 17:55:21 -0400 (Wed, 26 Jun 2024) EndedAt: 2024-06-26 17:57:20 -0400 (Wed, 26 Jun 2024) EllapsedTime: 118.8 seconds RetCode: 0 Status: OK PackageFile: COCOA_2.18.0.tar.gz PackageFileSize: 2.675 MiB