Package: COCOA Version: 2.18.0 Command: /Library/Frameworks/R.framework/Resources/bin/R CMD INSTALL COCOA StartedAt: 2024-10-16 16:32:26 -0400 (Wed, 16 Oct 2024) EndedAt: 2024-10-16 16:33:58 -0400 (Wed, 16 Oct 2024) EllapsedTime: 91.6 seconds RetCode: 0 Status: OK