Package: COCOA Version: 2.18.0 Command: /Library/Frameworks/R.framework/Resources/bin/R CMD check --install=check:COCOA.install-out.txt --library=/Library/Frameworks/R.framework/Resources/library --no-vignettes --timings COCOA_2.18.0.tar.gz StartedAt: 2024-10-17 03:03:52 -0400 (Thu, 17 Oct 2024) EndedAt: 2024-10-17 03:16:54 -0400 (Thu, 17 Oct 2024) EllapsedTime: 781.9 seconds RetCode: 0 Status: OK CheckDir: COCOA.Rcheck Warnings: 0