Package: CNVrd2 Version: 1.42.0 Command: chmod a+r CNVrd2 -R && E:\biocbuild\bbs-3.19-bioc\R\bin\R.exe CMD build --keep-empty-dirs --no-resave-data CNVrd2 StartedAt: 2024-10-16 18:18:25 -0400 (Wed, 16 Oct 2024) EndedAt: 2024-10-16 18:19:58 -0400 (Wed, 16 Oct 2024) EllapsedTime: 93.2 seconds RetCode: 0 Status: OK PackageFile: CNVrd2_1.42.0.tar.gz PackageFileSize: 2.54 MiB