Package: CNVrd2 Version: 1.42.0 Command: F:\biocbuild\bbs-3.19-bioc\R\bin\R.exe CMD INSTALL CNVrd2 StartedAt: 2024-06-26 16:10:53 -0400 (Wed, 26 Jun 2024) EndedAt: 2024-06-26 16:11:50 -0400 (Wed, 26 Jun 2024) EllapsedTime: 57.2 seconds RetCode: 0 Status: OK