Package: CNVrd2 Version: 1.42.0 Command: chmod a+r CNVrd2 -R && F:\biocbuild\bbs-3.19-bioc\R\bin\R.exe CMD build --keep-empty-dirs --no-resave-data CNVrd2 StartedAt: 2024-06-26 17:55:13 -0400 (Wed, 26 Jun 2024) EndedAt: 2024-06-26 17:56:41 -0400 (Wed, 26 Jun 2024) EllapsedTime: 87.6 seconds RetCode: 0 Status: OK PackageFile: CNVrd2_1.42.0.tar.gz PackageFileSize: 2.54 MiB