Package: CNVrd2 Version: 1.42.0 Command: /Library/Frameworks/R.framework/Resources/bin/R CMD INSTALL CNVrd2 StartedAt: 2024-10-16 15:42:43 -0400 (Wed, 16 Oct 2024) EndedAt: 2024-10-16 15:44:13 -0400 (Wed, 16 Oct 2024) EllapsedTime: 89.6 seconds RetCode: 0 Status: OK