Package: CNVrd2 Version: 1.42.0 Command: /Library/Frameworks/R.framework/Resources/bin/R CMD build --keep-empty-dirs --no-resave-data CNVrd2 StartedAt: 2024-10-16 18:06:03 -0400 (Wed, 16 Oct 2024) EndedAt: 2024-10-16 18:09:00 -0400 (Wed, 16 Oct 2024) EllapsedTime: 177.2 seconds RetCode: 0 Status: OK PackageFile: CNVrd2_1.42.0.tar.gz PackageFileSize: 2.826 MiB