Package: CNVrd2 Version: 1.42.0 Command: rm -rf CNVrd2.buildbin-libdir && mkdir CNVrd2.buildbin-libdir && /Users/biocbuild/BBS/utils/build-universal.sh CNVrd2_1.42.0.tar.gz /Library/Frameworks/R.framework/Resources/bin/R CNVrd2.buildbin-libdir StartedAt: 2024-06-10 00:12:17 -0400 (Mon, 10 Jun 2024) EndedAt: 2024-06-10 00:13:13 -0400 (Mon, 10 Jun 2024) EllapsedTime: 55.6 seconds RetCode: 0 Status: OK PackageFile: CNVrd2_1.42.0.tgz PackageFileSize: 2.921 MiB