Package: CNVrd2 Version: 1.42.0 Command: /Library/Frameworks/R.framework/Resources/bin/R CMD check --install=check:CNVrd2.install-out.txt --library=/Library/Frameworks/R.framework/Resources/library --no-vignettes --timings CNVrd2_1.42.0.tar.gz StartedAt: 2024-06-10 11:16:08 -0400 (Mon, 10 Jun 2024) EndedAt: 2024-06-10 11:21:32 -0400 (Mon, 10 Jun 2024) EllapsedTime: 324.5 seconds RetCode: 0 Status: OK CheckDir: CNVrd2.Rcheck Warnings: 0