Package: CNVrd2 Version: 1.42.0 Command: /Library/Frameworks/R.framework/Resources/bin/R CMD build --keep-empty-dirs --no-resave-data CNVrd2 StartedAt: 2024-06-09 19:43:56 -0400 (Sun, 09 Jun 2024) EndedAt: 2024-06-09 19:45:47 -0400 (Sun, 09 Jun 2024) EllapsedTime: 111.4 seconds RetCode: 0 Status: OK PackageFile: CNVrd2_1.42.0.tar.gz PackageFileSize: 2.826 MiB