Package: CNViz Version: 1.12.0 Command: rm -rf CNViz.buildbin-libdir && mkdir CNViz.buildbin-libdir && E:\biocbuild\bbs-3.19-bioc\R\bin\R.exe CMD INSTALL --build --library=CNViz.buildbin-libdir CNViz_1.12.0.tar.gz StartedAt: 2024-10-17 07:34:13 -0400 (Thu, 17 Oct 2024) EndedAt: 2024-10-17 07:35:02 -0400 (Thu, 17 Oct 2024) EllapsedTime: 48.5 seconds RetCode: 0 Status: OK PackageFile: CNViz_1.12.0.zip PackageFileSize: 185.9 KiB