Package: CNViz Version: 1.12.0 Command: /home/biocbuild/bbs-3.19-bioc/R/bin/R CMD INSTALL CNViz StartedAt: 2024-10-16 16:21:38 -0400 (Wed, 16 Oct 2024) EndedAt: 2024-10-16 16:22:23 -0400 (Wed, 16 Oct 2024) EllapsedTime: 45.3 seconds RetCode: 0 Status: OK