Package: CNViz Version: 1.12.0 Command: rm -rf CNViz.buildbin-libdir && mkdir CNViz.buildbin-libdir && /Users/biocbuild/BBS/utils/build-universal.sh CNViz_1.12.0.tar.gz /Library/Frameworks/R.framework/Resources/bin/R CNViz.buildbin-libdir StartedAt: 2024-10-17 15:53:30 -0400 (Thu, 17 Oct 2024) EndedAt: 2024-10-17 15:55:18 -0400 (Thu, 17 Oct 2024) EllapsedTime: 108.9 seconds RetCode: 0 Status: OK PackageFile: CNViz_1.12.0.tgz PackageFileSize: 179.4 KiB