Package: CNViz Version: 1.12.0 Command: /Library/Frameworks/R.framework/Resources/bin/R CMD check --install=check:CNViz.install-out.txt --library=/Library/Frameworks/R.framework/Resources/library --no-vignettes --timings CNViz_1.12.0.tar.gz StartedAt: 2024-06-09 19:32:26 -0400 (Sun, 09 Jun 2024) EndedAt: 2024-06-09 19:37:59 -0400 (Sun, 09 Jun 2024) EllapsedTime: 333.3 seconds RetCode: 0 Status: OK CheckDir: CNViz.Rcheck Warnings: 0