Package: CNViz Version: 1.12.0 Maintainer: Rebecca Greenblatt MaintainerEmail: rebecca.greenblatt at gmail.com git_url: https://git.bioconductor.org/packages/CNViz git_branch: RELEASE_3_19 git_last_commit: aa5a9cd git_last_commit_date: 2024-04-30 11:33:06 -0400 (Tue, 30 Apr 2024)