Package: CNVgears Version: 1.12.0 Command: /Library/Frameworks/R.framework/Resources/bin/R CMD build --keep-empty-dirs --no-resave-data CNVgears StartedAt: 2024-10-16 21:54:46 -0400 (Wed, 16 Oct 2024) EndedAt: 2024-10-16 21:55:33 -0400 (Wed, 16 Oct 2024) EllapsedTime: 46.6 seconds RetCode: 0 Status: OK PackageFile: CNVgears_1.12.0.tar.gz PackageFileSize: 2.287 MiB