Package: CNVRanger Version: 1.20.0 Command: E:\biocbuild\bbs-3.19-bioc\R\bin\R.exe CMD INSTALL CNVRanger StartedAt: 2024-10-16 16:21:19 -0400 (Wed, 16 Oct 2024) EndedAt: 2024-10-16 16:21:53 -0400 (Wed, 16 Oct 2024) EllapsedTime: 34.4 seconds RetCode: 0 Status: OK