Package: CNVRanger Version: 1.20.0 Command: /home/biocbuild/bbs-3.19-bioc/R/bin/R CMD check --install=check:CNVRanger.install-out.txt --library=/home/biocbuild/bbs-3.19-bioc/R/site-library --timings CNVRanger_1.20.0.tar.gz StartedAt: 2024-10-16 22:57:10 -0400 (Wed, 16 Oct 2024) EndedAt: 2024-10-16 23:04:17 -0400 (Wed, 16 Oct 2024) EllapsedTime: 426.8 seconds RetCode: 0 Status: OK CheckDir: CNVRanger.Rcheck Warnings: 0