Package: CNVRanger Version: 1.20.0 Command: /home/biocbuild/bbs-3.19-bioc/R/bin/R CMD build --keep-empty-dirs --no-resave-data CNVRanger StartedAt: 2024-10-16 17:53:07 -0400 (Wed, 16 Oct 2024) EndedAt: 2024-10-16 17:56:38 -0400 (Wed, 16 Oct 2024) EllapsedTime: 211.4 seconds RetCode: 0 Status: OK PackageFile: CNVRanger_1.20.0.tar.gz PackageFileSize: 1.976 MiB