Package: CNVRanger Version: 1.20.0 Command: rm -rf CNVRanger.buildbin-libdir && mkdir CNVRanger.buildbin-libdir && /Users/biocbuild/BBS/utils/build-universal.sh CNVRanger_1.20.0.tar.gz /Library/Frameworks/R.framework/Resources/bin/R CNVRanger.buildbin-libdir StartedAt: 2024-10-17 15:53:32 -0400 (Thu, 17 Oct 2024) EndedAt: 2024-10-17 15:54:30 -0400 (Thu, 17 Oct 2024) EllapsedTime: 58.1 seconds RetCode: 0 Status: OK PackageFile: CNVRanger_1.20.0.tgz PackageFileSize: 2.07 MiB