Package: CNVRanger Version: 1.20.0 Command: /Library/Frameworks/R.framework/Resources/bin/R CMD INSTALL CNVRanger StartedAt: 2024-06-09 15:14:39 -0400 (Sun, 09 Jun 2024) EndedAt: 2024-06-09 15:15:08 -0400 (Sun, 09 Jun 2024) EllapsedTime: 29.3 seconds RetCode: 0 Status: OK