Package: CNVRanger Version: 1.20.0 Command: rm -rf CNVRanger.buildbin-libdir && mkdir CNVRanger.buildbin-libdir && /Users/biocbuild/BBS/utils/build-universal.sh CNVRanger_1.20.0.tar.gz /Library/Frameworks/R.framework/Resources/bin/R CNVRanger.buildbin-libdir StartedAt: 2024-10-18 17:51:42 -0400 (Fri, 18 Oct 2024) EndedAt: 2024-10-18 17:52:17 -0400 (Fri, 18 Oct 2024) EllapsedTime: 35.1 seconds RetCode: 0 Status: OK PackageFile: CNVRanger_1.20.0.tgz PackageFileSize: 2.063 MiB