Package: CNVPanelizer Version: 1.36.0 Command: chmod a+r CNVPanelizer -R && E:\biocbuild\bbs-3.19-bioc\R\bin\R.exe CMD build --keep-empty-dirs --no-resave-data CNVPanelizer StartedAt: 2024-10-16 18:18:12 -0400 (Wed, 16 Oct 2024) EndedAt: 2024-10-16 18:19:54 -0400 (Wed, 16 Oct 2024) EllapsedTime: 102.1 seconds RetCode: 0 Status: OK PackageFile: CNVPanelizer_1.36.0.tar.gz PackageFileSize: 364.3 KiB