Package: CNVPanelizer Version: 1.36.0 Command: chmod a+r CNVPanelizer -R && F:\biocbuild\bbs-3.19-bioc\R\bin\R.exe CMD build --keep-empty-dirs --no-resave-data CNVPanelizer StartedAt: 2024-06-26 17:55:03 -0400 (Wed, 26 Jun 2024) EndedAt: 2024-06-26 17:56:33 -0400 (Wed, 26 Jun 2024) EllapsedTime: 89.7 seconds RetCode: 0 Status: OK PackageFile: CNVPanelizer_1.36.0.tar.gz PackageFileSize: 364.4 KiB